BEGIN:VCALENDAR
VERSION:2.0
PRODID:-//eventon.com NONSGML v1.0//EN
BEGIN:VEVENT
UID:69e85d96dc1b3
DTSTAMP:20260422T023310
DTSTART:20210902T210000Z
DTEND:20210902T230000Z
LOCATION:
SUMMARY:Hidrovía Paraná Paraguay
DESCRIPTION: El Instituto Correntino del Agua y del Ambiente (ICAA) fue invitado a participar de la segunda edición de las Jornadas sobre la Hidrovía Paraná – Paraguay\,  donde el administrador general del organismo provincial\,  ingeniero Mario Rujana\,  expondrá sobre el procedimiento de Evaluación de Impacto Ambiental (EIA) en la provincia de[..]
END:VEVENT
END:VCALENDAR