BEGIN:VCALENDAR
VERSION:2.0
PRODID:-//eventon.com NONSGML v1.0//EN
BEGIN:VEVENT
UID:69e8349b86aa7
DTSTAMP:20260421T233819
DTSTART:20210921T200000Z
DTEND:20210921T220000Z
LOCATION:Casa Molina Carlos Pellegrini 937
SUMMARY:CORRENTINO Y LIBERTADOR
DESCRIPTION: #CorrientesEsCulturaTodoElAño Invita: Museo Casa Molinas. Subsecretaría de Cultura. Secretaría de turismo\,  cultura y deportes. Lugar: Anfiteatro José Hernandez/ + Información: 3794-474272 Homenaje a los 171° Aniversario del paso a la inmortalidad del Padre de la Patria Presentación: Instituto Sanmartiniano. Subsecretaría de Cultura. Museo Casa Molinas
END:VEVENT
END:VCALENDAR