BEGIN:VCALENDAR
VERSION:2.0
PRODID:-//eventon.com NONSGML v1.0//EN
BEGIN:VEVENT
UID:69e7ec3a2c41e
DTSTAMP:20260421T182930
DTSTART:20210829T210000Z
DTEND:20210829T230000Z
LOCATION:
SUMMARY:Peña Oficial 2.0
DESCRIPTION: El espectáculo gratuito se podrá vivir este domingo desde las 18 a través de las redes sociales oficiales de la Municipalidad de Corrientes. Además se contará con una grilla importante de artistas\,  muchos de los cuales son nuevos valores que pueden mostrarse al mundo mediante este espacio cultural. Con la[..]
END:VEVENT
END:VCALENDAR