BEGIN:VCALENDAR
VERSION:2.0
PRODID:-//eventon.com NONSGML v1.0//EN
BEGIN:VEVENT
UID:69e7d72154063
DTSTAMP:20260421T165929
DTSTART:20210828T180000Z
DTEND:20210828T200000Z
LOCATION:
SUMMARY:Corrientes Baila
DESCRIPTION: Se llevará a cabo este sábado desde las 16 y podrá seguirse a través de las redes sociales de la Municipalidad y el canal Telenord. De ambos surgirán los últimos clasificados para las finales del certamen que tienen por fecha confirmada el 4 y el 11 de septiembre venidero. Habrá[..]
END:VEVENT
END:VCALENDAR