BEGIN:VCALENDAR
VERSION:2.0
PRODID:-//eventon.com NONSGML v1.0//EN
BEGIN:VEVENT
UID:69e77862c7ff8
DTSTAMP:20260421T101514
DTSTART:20210816T030000Z
DTEND:20210822T025900Z
LOCATION:
SUMMARY:X Encuentro de Muralismo y Arte Público
DESCRIPTION: Con la participación de 15 artistas locales y bajo estricto cumplimiento de protocolo por Covid\,  en la Ciudad se desarrolla un nuevo encuentro de muralismo y arte público. Hasta el sábado los vecinos podrán ver el paso a paso de las obras que desarrollan los muralistas en las inmediaciones del[..]
END:VEVENT
END:VCALENDAR