BEGIN:VCALENDAR
VERSION:2.0
PRODID:-//eventon.com NONSGML v1.0//EN
BEGIN:VEVENT
UID:69e78e8496678
DTSTAMP:20260421T114940
DTSTART:20210822T180000Z
DTEND:20210822T200000Z
LOCATION:
SUMMARY:Copa CAMET 2 vs 2
DESCRIPTION: Se trata de un evento que se desarrollará el domingo\,  a partir de las 15 en la Casa del Bicentenario y contará con el acompañamiento de la Municipalidad de Corrientes. Las inscripciones se harán por dupla y se llevarán a cabo en el día de la competencia\,  en el mismo lugar\, [..]
END:VEVENT
END:VCALENDAR