BEGIN:VCALENDAR
VERSION:2.0
PRODID:-//eventon.com NONSGML v1.0//EN
BEGIN:VEVENT
UID:69e7bf2f58106
DTSTAMP:20260421T151719
DTSTART:20210826T024500Z
DTEND:20210826T040000Z
LOCATION:
SUMMARY:Teko Especial
DESCRIPTION: Una vez más y pensando en los fanáticos de la música local\,  el Tekové Potî se presenta con una propuesta novedosa el “Teko virtual especial” que se realizará el miércoles 25 de agosto a las 23.45. Formaran parte de esta partida: el grupo mejillas\,  la Pilarcita y Vruno. El miércoles[..]
END:VEVENT
END:VCALENDAR