BEGIN:VCALENDAR
VERSION:2.0
PRODID:-//eventon.com NONSGML v1.0//EN
BEGIN:VEVENT
UID:69e7a544072e9
DTSTAMP:20260421T132644
DTSTART:20210828T000000Z
DTEND:20210830T020000Z
LOCATION:
SUMMARY:Festival Corrientes Jazz 2021
DESCRIPTION: Organizado por el Gobierno de la Provincia\,  a través del Instituto de Cultura de Corrientes\,  se llevará a cabo el Festival Corrientes Jazz 2021\,  en su 9na. Edición. Un evento que fue ganando espacio y público a lo largo de esta década\,  al punto que supo desplegarse con distintas actividades[..]
END:VEVENT
END:VCALENDAR