BEGIN:VCALENDAR
VERSION:2.0
PRODID:-//eventon.com NONSGML v1.0//EN
BEGIN:VEVENT
UID:69e7513738938
DTSTAMP:20260421T072807
DTSTART:20210814T030000Z
DTEND:20210816T025900Z
LOCATION:Casa Ñandereko 25 de Mayo 1151
SUMMARY:Homenaje a Julian Zini
DESCRIPTION: Organizado por el Gobierno de la Provincia\,  a través del Instituto de Cultura de Corrientes\,  se llevará a cabo el homenaje al padre Julián Zini\,  por cumplirse el primer aniversario del fallecimiento del cura chamamecero. El homenaje cuenta con una serie de actividades que se desarrollarán este fin de semana\, [..]
END:VEVENT
END:VCALENDAR