BEGIN:VCALENDAR
VERSION:2.0
PRODID:-//eventon.com NONSGML v1.0//EN
BEGIN:VEVENT
UID:69e7621518ca8
DTSTAMP:20260421T084005
DTSTART:20210818T220000Z
DTEND:20210819T000000Z
LOCATION:Auditorio Julian Zini Chaco 1590
SUMMARY:Corrientes la provincia guaraní
DESCRIPTION: Este miércoles 18 de agosto\,  a las 19 horas\,  se presentará en el Auditorio “Julián Zini” en la ciudad de Corrientes\,  la película documental “Corrientes la provincia guaraní”\,  del biólogo Aníbal Fernando Parera\,  con la participación del músico Raúl Barboza\,  desde París. Un corto documental con ribetes artísticos que recorre[..]
END:VEVENT
END:VCALENDAR