BEGIN:VCALENDAR
VERSION:2.0
PRODID:-//eventon.com NONSGML v1.0//EN
BEGIN:VEVENT
UID:69e73fd95c250
DTSTAMP:20260421T061401
DTSTART:20210802T030000Z
DTEND:20210809T025900Z
LOCATION:
SUMMARY:Semana del Emprendedor
DESCRIPTION: SEMANA DEL EMPRENDEDOR 2021 En la cuenta regresiva Del 2 al 8 de agosto 7 capacitaciones virtuales Importantes PREMIOS EN DINERO para financiar tu emprendimiento MENTORÍA para los finalistas INFLUENCERS LIVING EMPRENDEDOR ULTIMOS DÍAS DE INSCRIPCIONES mundoempresa.tv/tienda/ #capacitación #cursos #charlas #referentes #emprendedores #jovenesemprendedores #Corrientes #emprendimientos #emprendedores #emprendedor #mujeresemprendedoras
END:VEVENT
END:VCALENDAR