BEGIN:VCALENDAR
VERSION:2.0
PRODID:-//eventon.com NONSGML v1.0//EN
BEGIN:VEVENT
UID:69e72f8d567bc
DTSTAMP:20260421T050429
DTSTART:20210801T210000Z
DTEND:20210801T230000Z
LOCATION:
SUMMARY:Peña oficial de la Ciudad
DESCRIPTION: Este domingo desde las 18 se podrá apreciar gratuitamente a través de las redes sociales de la Municipalidad capitalina\,  la actuación en vivo de solistas\,  conjuntos chamameceros\,  bailarines\,  y el humor del Gurí Molinas. En una nueva edición en su modalidad virtual por la pandemia del covid 19\,  se celebrará[..]
END:VEVENT
END:VCALENDAR