BEGIN:VCALENDAR
VERSION:2.0
PRODID:-//eventon.com NONSGML v1.0//EN
BEGIN:VEVENT
UID:69e7419d84f98
DTSTAMP:20260421T062133
DTSTART:20210714T173600Z
DTEND:20210714T173600Z
LOCATION:
SUMMARY:Políticas Energéticas
DESCRIPTION: Desde la Federación Económica de Corrientes (FEC)\,  se organiza una charla por Zoom con el ex-Secretario de Energía de la Nación\,  Jorge Lapeña. La actividad tendrá lugar el martes 20 a las 18:30. Asimismo\,  los temarios durante el encuentro virtual serán de panorama energético Nacional\,  importancia del Gas en NEA[..]
END:VEVENT
END:VCALENDAR