BEGIN:VCALENDAR
VERSION:2.0
PRODID:-//eventon.com NONSGML v1.0//EN
BEGIN:VEVENT
UID:69e72fcc27141
DTSTAMP:20260421T050532
DTSTART:20210715T200000Z
DTEND:20210715T230000Z
LOCATION:
SUMMARY:Organización y Gestión de Negocios
DESCRIPTION: Llegó la II parte del 𝐂𝐢𝐜𝐥𝐨 𝐝𝐞 𝐅𝐨𝐫𝐦𝐚𝐜𝐢𝐨́𝐧 en Organización y Gestión de Negocios En este nuevo encuentro\,  vamos a reforzar lo aprendido en el 1º taller sobre eCommerce\,  costos y herramientas de financiamiento\,  pero lo llevaremos al próximo nivel para ayudarte a potenciar tu proyecto Jueves 15/07 - Transmisión[..]
END:VEVENT
END:VCALENDAR