BEGIN:VCALENDAR
VERSION:2.0
PRODID:-//eventon.com NONSGML v1.0//EN
BEGIN:VEVENT
UID:69e72fcecbed7
DTSTAMP:20260421T050534
DTSTART:20210710T160000Z
DTEND:20210710T190000Z
LOCATION:
SUMMARY:Corrientes Cumbia Virtual
DESCRIPTION: Este sábado 10 de julio\,  el Corrientes Cumbia y Virtual cambia de horario\,  a partir de las 13 vas a poder disfrutar lo mejor de la música tropical local Una vez más las propuestas del Tekové Potî se harán presente este fin de semana para llevar lo mejor de la[..]
END:VEVENT
END:VCALENDAR