BEGIN:VCALENDAR
VERSION:2.0
PRODID:-//eventon.com NONSGML v1.0//EN
BEGIN:VEVENT
UID:69e7525504550
DTSTAMP:20260421T073253
DTSTART:20210703T190000Z
DTEND:20210703T210000Z
LOCATION:
SUMMARY:Corrientes Baila
DESCRIPTION: Desde un primer día nos comprometimos a dar todo de nosotros para que Corrientes sea una ciudad de eventos\,  amigable y de oportunidades\,  y esto es un ejemplo de que cumplimos con ese objetivo\,  y continuaremos avanzando en ese sentido\,  siempre apuntando a más”\,  dijo el intendente\,  quien celebró la[..]
END:VEVENT
END:VCALENDAR