BEGIN:VCALENDAR
VERSION:2.0
PRODID:-//eventon.com NONSGML v1.0//EN
BEGIN:VEVENT
UID:69e7692a2080f
DTSTAMP:20260421T091018
DTSTART:20210801T030000Z
DTEND:20210811T025900Z
LOCATION:
SUMMARY:Feria Provincial de Libro
DESCRIPTION: El Gobierno de Corrientes ya comenzó la producción de las múltiples actividades que forman parte de esta edición virtual que se podrá seguir a través de www.corrientesferiadellibro.com y del canal de Youtube del Instituto de Cultura. Asimismo\,  más de 20 comercios editoriales se suman como parte de la puesta. El[..]
END:VEVENT
END:VCALENDAR