BEGIN:VCALENDAR
VERSION:2.0
PRODID:-//eventon.com NONSGML v1.0//EN
BEGIN:VEVENT
UID:69e7b90b13300
DTSTAMP:20260421T145107
DTSTART:20210627T210000Z
DTEND:20210627T230000Z
LOCATION:
SUMMARY:Peña Oficial de la Ciudad
DESCRIPTION: La Peña Oficial de la Ciudad brindará lo mejor del chamamé este domingo Este domingo\,  desde las 18\,  nuevamente la Peña Oficial de la Ciudad 2.0 se presentará con lo mejor de nuestra música. Además\,  se revivirán momentos del certamen "Mi primer Chamamé" y\,  en la oportunidad se podrá disfrutar[..]
END:VEVENT
END:VCALENDAR