BEGIN:VCALENDAR
VERSION:2.0
PRODID:-//eventon.com NONSGML v1.0//EN
BEGIN:VEVENT
UID:69e7a197dde2a
DTSTAMP:20260421T131103
DTSTART:20210627T010000Z
DTEND:20210627T025900Z
LOCATION:
SUMMARY:Corrientes Cumbia
DESCRIPTION: Para todos los que están cuidándose y en casa\,  las propuestas musicales no pararán de sonar a través de las redes sociales y la TV. Este sábado y domingo\,  la Subsecretaria General de la Gobernación te ofrece diversión\,  premios y melodías\,  sin necesidad de moverte. Además\,  conoceremos como se cocinas los[..]
END:VEVENT
END:VCALENDAR