BEGIN:VCALENDAR
VERSION:2.0
PRODID:-//eventon.com NONSGML v1.0//EN
BEGIN:VEVENT
UID:69e7d642e2e31
DTSTAMP:20260421T165546
DTSTART:20210708T200000Z
DTEND:20210708T210000Z
LOCATION:
SUMMARY:RRSS para emprendedores
DESCRIPTION: Capacitación sin cargo. Día y horario: Jueves 8 de julio 17:00 a 18:00 hs. Capacitadora: Lic. Guadalupe Ortellado. Esta actividad propone dar a conocer al emprendedor técnicas y buenas prácticas para comunicar su marca\,  productos y servicios en redes sociales. Se analizarán aspectos como: definición del público objetivo\,  el lenguaje\,  la comunicación[..]
END:VEVENT
END:VCALENDAR