BEGIN:VCALENDAR
VERSION:2.0
PRODID:-//eventon.com NONSGML v1.0//EN
BEGIN:VEVENT
UID:69e7ebfee9a2a
DTSTAMP:20260421T182830
DTSTART:20210701T190000Z
DTEND:20210701T200000Z
LOCATION:
SUMMARY:Técnicas de Oratoria Moderna
DESCRIPTION: Capacitación sin Cargo. Día y horario: Jueves 1º de julio de 16:00 a 17:00 hs. Capacitadoras: Lic. Gladys Sosa de Carbó. Lic. Belén Prosman. Este webinar propone evidenciar formas de transmitir su visión e ideas a los demás de forma efectiva. Toda actividad en nuestras vidas es\,  de alguna manera\,  una comunicación\, [..]
END:VEVENT
END:VCALENDAR