BEGIN:VCALENDAR
VERSION:2.0
PRODID:-//eventon.com NONSGML v1.0//EN
BEGIN:VEVENT
UID:69e80617a4f18
DTSTAMP:20260421T201951
DTSTART:20210630T190000Z
DTEND:20210630T200000Z
LOCATION:
SUMMARY:Taller de Equipos de Trabajo
DESCRIPTION: Capacitación sin cargo. Día y horario: Miércoles 30 de junio de 16:00 a 17:00 hs. Capacitadora: OPS. Laura Itatí Gómez. Desde de la psicología social un grupo es un conjunto restringido de personas que\,  ligadas por constantes espacio temporales\,  el cual\,  articulado en su mutua representación interna\,  se propone en forma implícita[..]
END:VEVENT
END:VCALENDAR