BEGIN:VCALENDAR
VERSION:2.0
PRODID:-//eventon.com NONSGML v1.0//EN
BEGIN:VEVENT
UID:69e81c63734cc
DTSTAMP:20260421T215459
DTSTART:20210624T190000Z
DTEND:20210624T200000Z
LOCATION:
SUMMARY:Herramientas para emprendedores
DESCRIPTION: Actividad sin cargo. Día y Horario: Jueves 24 de junio de 16 a 17 hs. Capacitadoras: Lic. Gladys Sosa de Carbó. Lic. Belén Prosman. La formación permitirá capitalizar y aplicar herramientas para que la pasión y habilidad que tengas por una determinada actividad se transforme en un negocio rentable y asegurar de[..]
END:VEVENT
END:VCALENDAR