BEGIN:VCALENDAR
VERSION:2.0
PRODID:-//eventon.com NONSGML v1.0//EN
BEGIN:VEVENT
UID:69e831e6952a1
DTSTAMP:20260421T232646
DTSTART:20210623T170000Z
DTEND:20210623T180000Z
LOCATION:
SUMMARY:Claves de Comunicación y Storytelling
DESCRIPTION: Con #FortaleciendoMiPyme continuamos brindando capacitaciones para potenciar emprendimientos locales El miércoles desde las 14\,  los vecinos podrán sumarse a ‘Claves de Comunicación y Storytelling para vender más’ a través de  http://bit.ly/FortaleciendoMiPyMEvirtual
END:VEVENT
END:VCALENDAR