BEGIN:VCALENDAR
VERSION:2.0
PRODID:-//eventon.com NONSGML v1.0//EN
BEGIN:VEVENT
UID:69e845b999fb0
DTSTAMP:20260422T005121
DTSTART:20210623T040000Z
DTEND:20210623T040000Z
LOCATION:
SUMMARY:Reflejos del Paraná
DESCRIPTION: Nuevo recorrido virtual por la muestra Reflejos del Paraná Este miércoles\,  23 de junio\,  estará disponible en las plataformas digitales del Instituto de Cultura y del Museo Provincial de Bellas Artes un nuevo recorrido por la muestra Reflejos del Paraná. La misma en esta ocasión estará a cargo de la[..]
END:VEVENT
END:VCALENDAR