BEGIN:VCALENDAR
VERSION:2.0
PRODID:-//eventon.com NONSGML v1.0//EN
BEGIN:VEVENT
UID:69e8647b523b5
DTSTAMP:20260422T030235
DTSTART:20210624T220000Z
DTEND:20210625T010000Z
LOCATION:
SUMMARY:Conversatorio LGBT
DESCRIPTION: Se trata de una acción realizada por la Secretaría de Desarrollo Humano\,  a través de las subsecretarías de Coordinación de Políticas Sociales y de Relaciones Institucionales (Secretaria de coordinación de Gobierno). Las inscripciones se pueden realizar en bit.ly/ConversatorioLGTB "Debido a la situación sanitaria desde la gestión decidimos realizar este tipo[..]
END:VEVENT
END:VCALENDAR