BEGIN:VCALENDAR
VERSION:2.0
PRODID:-//eventon.com NONSGML v1.0//EN
BEGIN:VEVENT
UID:69e8883060234
DTSTAMP:20260422T053456
DTSTART:20210617T220000Z
DTEND:20210618T010000Z
LOCATION:
SUMMARY:Mes del #OrgulloLGTB
DESCRIPTION: Mes del #OrgulloLGTB | Conversatorios y debates Hoy 17 Junio\,  desde las 19 Encuentro virtual por 'Zoom' Inscripciones: http://bit.ly/ConversatorioLGTB
END:VEVENT
END:VCALENDAR