BEGIN:VCALENDAR
VERSION:2.0
PRODID:-//eventon.com NONSGML v1.0//EN
BEGIN:VEVENT
UID:69e89b52798c9
DTSTAMP:20260422T065634
DTSTART:20210617T140000Z
DTEND:20210617T160000Z
LOCATION:
SUMMARY:CELEBREMOS LA PATRIA
DESCRIPTION: &nbsp; Las puerta del salón de los pasos perdidos ya están abiertas para la exposición y muestra de arte cooperativa “Jaguar Azul” Apertura jueves 16/6 a las 11:00 Hs. Salón de los pasos perdidos de la legislatura. También podes visualizarlo en la galería virtual en www.gustavocanteros.com . #muestraartistica #arte #cultura[..]
END:VEVENT
END:VCALENDAR