BEGIN:VCALENDAR
VERSION:2.0
PRODID:-//eventon.com NONSGML v1.0//EN
BEGIN:VEVENT
UID:69e8c61d12b4a
DTSTAMP:20260422T095909
DTSTART:20210614T030000Z
DTEND:20210619T025900Z
LOCATION:
SUMMARY:Semana de Concientización del Cuidado del Medio Ambiente
DESCRIPTION: Te invitamos a participar del Ciclo Semana de Concientización del Cuidado del Medio Ambiente: Reimagina\,  Recrea y Restaura Del 14 al 18 de Junio Modalidad online a través de Webex Acceso libre y gratuito con inscripción previa en actividades.ucp.edu.ar Mirá el cronograma y agendá las charlas 1º TEMA Predios agroforestales[..]
END:VEVENT
END:VCALENDAR