BEGIN:VCALENDAR
VERSION:2.0
PRODID:-//eventon.com NONSGML v1.0//EN
BEGIN:VEVENT
UID:69e8e778bdf0d
DTSTAMP:20260422T122128
DTSTART:20210615T173000Z
DTEND:20210615T193000Z
LOCATION:
SUMMARY:Orientación para la elección vocacional 2021
DESCRIPTION: Los invitamos a participar del Webinar Orientación para la elección vocacional 2021 Ideas\,  experiencias\,  información y tips que te acompañarán en tu proyecto A cargo del Lic. en Psicopedagogía Oscar Rodríguez y alumnos de 4° año de la Licenciatura en Psicopedagogía. Martes 15 de Junio de 14:30 a 16 hs.[..]
END:VEVENT
END:VCALENDAR