BEGIN:VCALENDAR
VERSION:2.0
PRODID:-//eventon.com NONSGML v1.0//EN
BEGIN:VEVENT
UID:69e9683d750a7
DTSTAMP:20260422T213053
DTSTART:20210611T190000Z
DTEND:20210611T220000Z
LOCATION:
SUMMARY:Nuevo Código Procesal\,  Civil y Comercial de la Provincia de Corrientes
DESCRIPTION: "Nuevo Código Procesal\,  Civil y Comercial de la Provincia de Corrientes" En ZOOM ID 878 9495 6931 Organiza el Departamento de Derecho Procesal\,  de la Facultad de Derecho @unneargentina
END:VEVENT
END:VCALENDAR