BEGIN:VCALENDAR
VERSION:2.0
PRODID:-//eventon.com NONSGML v1.0//EN
BEGIN:VEVENT
UID:69e952c76af7d
DTSTAMP:20260422T195919
DTSTART:20210629T200000Z
DTEND:20210629T230000Z
LOCATION:
SUMMARY:La Relación de la Inteligencia Artificial y la efectividad de la Tutela Judicial y Administrativa
DESCRIPTION: Jornada de Extensión “La Relación de la Inteligencia Artificial y la efectividad de la Tutela Judicial y Administrativa” 29 de junio a las 17 hs. En ZOOM  ID 883 2232 1894 Actividad gratuita. Destinado a Abogados/as\,  Magistrados/as\,  Comunidad Académica\,  Funcionarios judiciales y administrativos. Inscripción para entrega de certificados sec.academica.derecho@comunidad.unne.edu.ar
END:VEVENT
END:VCALENDAR