BEGIN:VCALENDAR
VERSION:2.0
PRODID:-//eventon.com NONSGML v1.0//EN
BEGIN:VEVENT
UID:69e9046a171e1
DTSTAMP:20260422T142458
DTSTART:20210615T030000Z
DTEND:20210617T025900Z
LOCATION:
SUMMARY:JORNADAS CONSTITUCIONALES DEL PODER SOBRE LAS EMERGENCIAS
DESCRIPTION: Objetivos: Debatir sobre los alcances constitucionales del instituto de la emergencia Público objetivo: Profesionales del Derecho\,  docentes universitarios\,  estudiantes universitarios\,  personas no vinculadas al ámbito jurídico interesados en la temática
END:VEVENT
END:VCALENDAR