BEGIN:VCALENDAR
VERSION:2.0
PRODID:-//eventon.com NONSGML v1.0//EN
BEGIN:VEVENT
UID:69e8b08b94e9a
DTSTAMP:20260422T082707
DTSTART:20210616T170000Z
DTEND:20210616T200000Z
LOCATION:
SUMMARY:Aspectos laborales y formas de contratación en pandemia
DESCRIPTION: Con el taller ‘Aspectos laborales y formas de contratación en pandemia’ del programa #FortaleciendoMiPyME\,  brindamos nuevas estrategias para potenciar emprendimientos locales. Será este miércoles desde las 14\,  los interesados podrán inscribirse en  http://bit.ly/FortaleciendoMiPyMEvirtual
END:VEVENT
END:VCALENDAR