BEGIN:VCALENDAR
VERSION:2.0
PRODID:-//eventon.com NONSGML v1.0//EN
BEGIN:VEVENT
UID:69e97e7699b91
DTSTAMP:20260422T230542
DTSTART:20210622T030000Z
DTEND:20210623T025900Z
LOCATION:
SUMMARY:XXI Congreso de Historia de la Provincia de Corrientes
DESCRIPTION: El acuerdo de trabajo fue firmado este martes por el viceintendente\,  Emilio Lanari\,  y el presidente de la Junta de Historia de la Provincia de Corrientes\,  Dardo Ramírez Braschi. El Congreso\,  que tiene nuevamente a la ciudad capital como sede\,  tendrá lugar desde el próximo 22 de junio. La Municipalidad[..]
END:VEVENT
END:VCALENDAR