BEGIN:VCALENDAR
VERSION:2.0
PRODID:-//eventon.com NONSGML v1.0//EN
BEGIN:VEVENT
UID:69e9911891a12
DTSTAMP:20260423T002512
DTSTART:20210906T230000Z
DTEND:20210610T010000Z
LOCATION:
SUMMARY:El cabildo como institucion
DESCRIPTION: Se realizará este miércoles a partir de las 20 y será transmitido a través del Facebook de la Junta de Historia de la Provincia de Corrientes. Estará a cargo del presidente de la institución\,  Dardo Ramírez Braschi\,  y formará parte de un ciclo de conferencias realizadas por la Municipalidad de[..]
END:VEVENT
END:VCALENDAR