BEGIN:VCALENDAR
VERSION:2.0
PRODID:-//eventon.com NONSGML v1.0//EN
BEGIN:VEVENT
UID:69e9196b48863
DTSTAMP:20260422T155435
DTSTART:20210613T160000Z
DTEND:20210613T180000Z
LOCATION:
SUMMARY:Teko Chamame
DESCRIPTION: Este sábado y domingo\,  elegí quedarte en casa que\,  con las propuestas de la Subsecretaria General de la Gobernación vas a poder disfrutar de música local\,  diversión y premios\,  sin necesidad de moverte. El Corrientes Cumbia y el Teko Chamamé podrán disfrutarse a través del Facebook: Gobierno de Corrientes; Instagram:[..]
END:VEVENT
END:VCALENDAR