BEGIN:VCALENDAR
VERSION:2.0
PRODID:-//eventon.com NONSGML v1.0//EN
BEGIN:VEVENT
UID:69e93397060c4
DTSTAMP:20260422T174615
DTSTART:20210613T010000Z
DTEND:20210612T040000Z
LOCATION:
SUMMARY:Corrientes Cumbia
DESCRIPTION: Este sábado y domingo\,  elegí quedarte en casa que\,  con las propuestas de la Subsecretaria General de la Gobernación vas a poder disfrutar de música local\,  diversión y premios\,  sin necesidad de moverte. Continuando con la intención de llevar lo mejor de nuestra música a cada uno de los hogares[..]
END:VEVENT
END:VCALENDAR