BEGIN:VCALENDAR
VERSION:2.0
PRODID:-//eventon.com NONSGML v1.0//EN
BEGIN:VEVENT
UID:69e9a70d700b0
DTSTAMP:20260423T015853
DTSTART:20210915T030000Z
DTEND:20210918T025900Z
LOCATION:Universidad de la Cuenca del Plata Lavalle 50
SUMMARY:II Congreso Internacional de Psicología
DESCRIPTION: Te invitamos a participar del II Congreso Internacional de Psicología 15\,  16 y 17 de Septiembre Modalidad 100% online ¿Te lo vas a perder? Inscribite ahora y aprovechá aranceles promocionales para alumnos\,  egresados y docentes UCP Más información en  www.ucp.edu.ar/congresopsicologia #psicologia #CIPCuenca #psicologiaonline #psicologiaparatodos
END:VEVENT
END:VCALENDAR