BEGIN:VCALENDAR
VERSION:2.0
PRODID:-//eventon.com NONSGML v1.0//EN
BEGIN:VEVENT
UID:69e9bbff138ab
DTSTAMP:20260423T032815
DTSTART:20210611T220000Z
DTEND:20210612T010000Z
LOCATION:
SUMMARY:Seminario Int. de Derecho Civil
DESCRIPTION: Agendalo Se viene el Seminario Internacional de Derecho Civil. En Homenaje al Profesor Dr. “Luis Leiva Fernández” 11 de junio a las 19 hs. En ZOOM ID 858 4787 8470 y YouTube. Actividad gratuita. Destinado a la Comunidad Académica y Público en general. Presentación del libro “LIBER AMICORUM” en homenaje[..]
END:VEVENT
END:VCALENDAR