BEGIN:VCALENDAR
VERSION:2.0
PRODID:-//eventon.com NONSGML v1.0//EN
BEGIN:VEVENT
UID:69e9e49168fd4
DTSTAMP:20260423T062121
DTSTART:20210607T210000Z
DTEND:20210607T230000Z
LOCATION:
SUMMARY:Reimagina\,  recupera\,  restaura
DESCRIPTION: Jornada por el Día Mundial del Medio Ambiente "Reimagina\,  recupera\,  restaura" es la convocatoria a conversar sobre los temas que nos ocupan como sociedad en la naturaleza. 7 de junio a las 18 hs.
END:VEVENT
END:VCALENDAR