BEGIN:VCALENDAR
VERSION:2.0
PRODID:-//eventon.com NONSGML v1.0//EN
BEGIN:VEVENT
UID:69e9fa7e1e206
DTSTAMP:20260423T075454
DTSTART:20210607T180000Z
DTEND:20210607T210000Z
LOCATION:
SUMMARY:El rol del Estado en la violencia de género
DESCRIPTION: En el marco del Proyecto Universidad en el Medio  “Conocer los Derechos fundamentales aumenta la seguridad ciudadana” se viene la charla “El rol del Estado en la violencia de género”. 7 junio a las 15 hs. En ZOOM ID 881 6449 8487 Destinatarios Funcionarias/os Policiales del Servicio Penitenciario. Público en[..]
END:VEVENT
END:VCALENDAR