BEGIN:VCALENDAR
VERSION:2.0
PRODID:-//eventon.com NONSGML v1.0//EN
BEGIN:VEVENT
UID:69ea3e7b08c17
DTSTAMP:20260423T124459
DTSTART:20210605T180000Z
DTEND:20210605T200000Z
LOCATION:
SUMMARY:MONOS CARAYÁ
DESCRIPTION: El día Sábado 05 de Junio\,  en el día mundial del Ambiente\,  te invitamos a sumarte a esta charla en la que tendremos a 5 disertantes que nos contarán la impoetancia de que el Mono Carayá sea declarado como Monumento Natural de Corrientes\,  cada uno desde su especialidad y con[..]
END:VEVENT
END:VCALENDAR