BEGIN:VCALENDAR
VERSION:2.0
PRODID:-//eventon.com NONSGML v1.0//EN
BEGIN:VEVENT
UID:69e9ce31ab988
DTSTAMP:20260423T044553
DTSTART:20210609T040000Z
DTEND:20210609T040000Z
LOCATION:
SUMMARY:Registro PUPA
DESCRIPTION: Capacitaciones para emprendedores locales con el programa Fortaleciendo Mi Pyme Este miércoles\,  ‘Registro PUPA’ estará orientado a los trabajadores del sector gastronómico\,  podrán inscribirse en http://bit.ly/FortaleciendoMiPyMEvirtual
END:VEVENT
END:VCALENDAR