BEGIN:VCALENDAR
VERSION:2.0
PRODID:-//eventon.com NONSGML v1.0//EN
BEGIN:VEVENT
UID:69ea0c0f9677d
DTSTAMP:20260423T090951
DTSTART:20210606T230000Z
DTEND:20210607T020000Z
LOCATION:
SUMMARY:Simon de Jesus Palacios
DESCRIPTION: Este domingo\,  desde las 18\,  nuevamente se realizará la Peña Oficial de la Ciudad 2.0 con invitados muy especiales de nuestra música. Además\,  se revivirán momentos del certamen "Mi primer Chamamé" que ya tendrá el 12 de junio a los 10 solistas o conjuntos ganadores que accederán a la posibilidad[..]
END:VEVENT
END:VCALENDAR