BEGIN:VCALENDAR
VERSION:2.0
PRODID:-//eventon.com NONSGML v1.0//EN
BEGIN:VEVENT
UID:69ea224c586fe
DTSTAMP:20260423T104444
DTSTART:20210606T000000Z
DTEND:20210606T020000Z
LOCATION:
SUMMARY:Rock II
DESCRIPTION: ¡Nuevo ciclo del Cultural Streaming! Abrimos esta segunda edición de nuestro tan exitoso “Ciclo de conciertos virtuales” al que decidimos llamar “Cultural Streaming”. Estamos muy orgullosos de poder llevar al rock a lo más alto en estos tiempos tan complicados para nuestros artistas regionales\,  desde el Senado También es Cultura[..]
END:VEVENT
END:VCALENDAR