BEGIN:VCALENDAR
VERSION:2.0
PRODID:-//eventon.com NONSGML v1.0//EN
BEGIN:VEVENT
UID:69ea757e7d0e6
DTSTAMP:20260423T163942
DTSTART:20210601T140000Z
DTEND:20210601T160000Z
LOCATION:
SUMMARY:Internacionalizacion para Pymes
DESCRIPTION: Las empresas que quieran acceder al programa de capacitación tienen tiempo hasta el 28 de mayo para acceder de manera gratuita a los Webinars. Se habilitó un número de teléfono y un correo electrónico en el que se explicará la forma de acceder a los mismos. La capacitación online se[..]
END:VEVENT
END:VCALENDAR