BEGIN:VCALENDAR
VERSION:2.0
PRODID:-//eventon.com NONSGML v1.0//EN
BEGIN:VEVENT
UID:69ea5f8007635
DTSTAMP:20260423T150552
DTSTART:20210529T190000Z
DTEND:20210529T210000Z
LOCATION:
SUMMARY:Mi Primer Chamame
DESCRIPTION: Este sábado a las 16 se realizará la última jornada de clasificación en la que se conocerán los 20 finalistas del concurso municipal\,  que será transmitido de forma online. Luego el 5 y 12 de junio se elegirán cinco ganadores en cada una de las etapas. “Mi Primer Chamamé”\,  está[..]
END:VEVENT
END:VCALENDAR