BEGIN:VCALENDAR
VERSION:2.0
PRODID:-//eventon.com NONSGML v1.0//EN
BEGIN:VEVENT
UID:69eab8da71941
DTSTAMP:20260423T212706
DTSTART:20210526T200000Z
DTEND:20210526T230000Z
LOCATION:
SUMMARY:Jornada del Instituto Región NEA
DESCRIPTION: No Te Lo Pierdas se viene la Jornada del Instituto Región NEA de la Academia Nacional de Derecho y Ciencias Sociales de Córdoba 26 de mayo a las 17 hs. En ZOOM  ID 858 3772 0918 Destinado a  Abogadas/os\,  Magistradas/os\,  Funcionarias/os\,  Empleadas/os Judiciales\,  estudiantes y público en general. Se hará[..]
END:VEVENT
END:VCALENDAR