BEGIN:VCALENDAR
VERSION:2.0
PRODID:-//eventon.com NONSGML v1.0//EN
BEGIN:VEVENT
UID:69ea8ba5278ca
DTSTAMP:20260423T181413
DTSTART:20210623T220000Z
DTEND:20210624T010000Z
LOCATION:
SUMMARY:Pensar la Argentina
DESCRIPTION: Jornadas de Historia Constitucional “Pensar la Argentina” 23 de junio a las 19 hs. En ZOOM 853 2828 6921 Actividad gratuita. Inscripción para certificados sec.academica.derecho@comunidad.unne.edu.ar
END:VEVENT
END:VCALENDAR